BEGIN:VCALENDAR
VERSION:2.0
PRODID:-//Sabre//Sabre VObject 3.5.3//EN
CALSCALE:GREGORIAN
BEGIN:VTIMEZONE
TZID:Europe/London
BEGIN:STANDARD
TZNAME:GMT
DTSTART:19701025T020000
RRULE:FREQ=YEARLY;BYMONTH=10;BYDAY=-1SU
TZOFFSETFROM:+0100
TZOFFSETTO:+0000
END:STANDARD
BEGIN:DAYLIGHT
TZNAME:BST
DTSTART:19700329T010000
RRULE:FREQ=YEARLY;BYMONTH=3;BYDAY=-1SU
TZOFFSETFROM:+0000
TZOFFSETTO:+0100
END:DAYLIGHT
END:VTIMEZONE
BEGIN:VEVENT
UID:event_314199@lancastersingers.org
DTSTART;TZID=Europe/London:20260607T150000
DTEND;TZID=Europe/London:20260607T164500
SUMMARY:From Baroque to Bebop: Lancaster
DESCRIPTION:For full event details\, visit: https://www.lancastersingers.or
 g/dbpage.php?pg=view&dbase=events&id=314199
LOCATION:St Paul's Church\, Scotforth\, Scotforth Rd\, Lancaster LA1 4ST
URL:https://www.lancastersingers.org/dbpage.php?pg=view&dbase=events&id=314
 199
END:VEVENT
END:VCALENDAR
