BEGIN:VCALENDAR
VERSION:2.0
PRODID:-//Sabre//Sabre VObject 3.5.3//EN
CALSCALE:GREGORIAN
BEGIN:VTIMEZONE
TZID:Europe/London
BEGIN:STANDARD
TZNAME:GMT
DTSTART:19701025T020000
RRULE:FREQ=YEARLY;BYMONTH=10;BYDAY=-1SU
TZOFFSETFROM:+0100
TZOFFSETTO:+0000
END:STANDARD
BEGIN:DAYLIGHT
TZNAME:BST
DTSTART:19700329T010000
RRULE:FREQ=YEARLY;BYMONTH=3;BYDAY=-1SU
TZOFFSETFROM:+0000
TZOFFSETTO:+0100
END:DAYLIGHT
END:VTIMEZONE
BEGIN:VEVENT
UID:event_314198@lancastersingers.org
DTSTART;TZID=Europe/London:20260606T190000
DTEND;TZID=Europe/London:20260606T204500
SUMMARY:From Baroque to Bebop: Grasmere
DESCRIPTION:For full event details\, visit: https://www.lancastersingers.or
 g/dbpage.php?pg=view&dbase=events&id=314198
LOCATION:St Oswald's Church\, Church Stile\, Grasmere\, Ambleside LA22 9SW
URL:https://www.lancastersingers.org/dbpage.php?pg=view&dbase=events&id=314
 198
END:VEVENT
END:VCALENDAR
